BEGIN:VCALENDAR
VERSION:2.0
PRODID:-//Neil Squire Society - ECPv5.3.1.1//NONSGML v1.0//EN
CALSCALE:GREGORIAN
METHOD:PUBLISH
X-WR-CALNAME:Neil Squire Society
X-ORIGINAL-URL:https://www.neilsquire.ca
X-WR-CALDESC:Events for Neil Squire Society
BEGIN:VTIMEZONE
TZID:America/Halifax
BEGIN:DAYLIGHT
TZOFFSETFROM:-0400
TZOFFSETTO:-0300
TZNAME:ADT
DTSTART:20230312T060000
END:DAYLIGHT
BEGIN:STANDARD
TZOFFSETFROM:-0300
TZOFFSETTO:-0400
TZNAME:AST
DTSTART:20231105T050000
END:STANDARD
END:VTIMEZONE
BEGIN:VEVENT
DTSTART;TZID=America/Halifax:20230321T100000
DTEND;TZID=America/Halifax:20230321T120000
DTSTAMP:20260423T233502
CREATED:20230316T210143Z
LAST-MODIFIED:20230316T210143Z
UID:26511-1679392800-1679400000@www.neilsquire.ca
SUMMARY:Toy Adapting with Nova Scotia AT Specialists Session #2
DESCRIPTION:Makers Making Change is so excited to be adapting toys with Assistive Technology Support Staff from Nova Scotia’s Department of Education. \nVolunteers will be learning more about the Makers Making Change program and then be led by our MMC staff through switch adapting toys. Volunteers will be adapting Remote Control Cars that will then be donated to children around Atlantic Canada.
URL:https://www.neilsquire.ca/event/toy-adapting-with-nova-scotia-at-specialists-session-2/
CATEGORIES:Buildathon,Community Event,Makers Making Change
ATTACH;FMTTYPE=image/jpeg:https://www.neilsquire.ca/wp-content/uploads/2023/02/20230209_180429-scaled.jpg
END:VEVENT
END:VCALENDAR