BEGIN:VCALENDAR
VERSION:2.0
PRODID:-//Neil Squire Society - ECPv5.3.1.1//NONSGML v1.0//EN
CALSCALE:GREGORIAN
METHOD:PUBLISH
X-WR-CALNAME:Neil Squire Society
X-ORIGINAL-URL:https://www.neilsquire.ca
X-WR-CALDESC:Events for Neil Squire Society
BEGIN:VTIMEZONE
TZID:America/Moncton
BEGIN:DAYLIGHT
TZOFFSETFROM:-0400
TZOFFSETTO:-0300
TZNAME:ADT
DTSTART:20200308T060000
END:DAYLIGHT
BEGIN:STANDARD
TZOFFSETFROM:-0300
TZOFFSETTO:-0400
TZNAME:AST
DTSTART:20201101T050000
END:STANDARD
END:VTIMEZONE
BEGIN:VEVENT
DTSTART;TZID=America/Moncton:20200319T093000
DTEND;TZID=America/Moncton:20200319T163000
DTSTAMP:20260424T210537
CREATED:20200302T165034Z
LAST-MODIFIED:20200302T165340Z
UID:20829-1584610200-1584635400@www.neilsquire.ca
SUMMARY:Transition NB Peer Event
DESCRIPTION:Learn about our AT Help Desk and other programs at the Transition NB Peer Event.
URL:https://www.neilsquire.ca/event/transition-nb-peer-event/
LOCATION:Planet Hatch\, 50 Crowther Ln Suite 140\, Fredericton\, NB\, E3C 2R2\, Canada
CATEGORIES:Community Event
ATTACH;FMTTYPE=image/jpeg:https://www.neilsquire.ca/wp-content/uploads/2020/03/Peer-Event-Poster.jpg
END:VEVENT
END:VCALENDAR