BEGIN:VCALENDAR
VERSION:2.0
PRODID:-//Neil Squire Society - ECPv5.3.1.1//NONSGML v1.0//EN
CALSCALE:GREGORIAN
METHOD:PUBLISH
X-WR-CALNAME:Neil Squire Society
X-ORIGINAL-URL:https://www.neilsquire.ca
X-WR-CALDESC:Events for Neil Squire Society
BEGIN:VTIMEZONE
TZID:America/Vancouver
BEGIN:DAYLIGHT
TZOFFSETFROM:-0800
TZOFFSETTO:-0700
TZNAME:PDT
DTSTART:20260308T100000
END:DAYLIGHT
BEGIN:STANDARD
TZOFFSETFROM:-0700
TZOFFSETTO:-0800
TZNAME:PST
DTSTART:20261101T090000
END:STANDARD
END:VTIMEZONE
BEGIN:VEVENT
DTSTART;TZID=America/Vancouver:20260521T103000
DTEND;TZID=America/Vancouver:20260521T123000
DTSTAMP:20260423T190115
CREATED:20260413T145654Z
LAST-MODIFIED:20260413T145654Z
UID:31582-1779359400-1779366600@www.neilsquire.ca
SUMMARY:Transition Resource Fair
DESCRIPTION:We will be at the Transition Resource Fair for students of diverse abilities\, hosted by The Inclusion Action Committee. The purpose of the Transition Fair is to connect students with community resources which will help them make a successful transition from high school to adulthood. Focus areas include access\, education\, employment\, health\, wellness and leisure.
URL:https://www.neilsquire.ca/event/transition-resource-fair/
LOCATION:Greg Moore Youth Centre\, 11925 Haney Place\, Maple Ridge\, BC\, Canada
CATEGORIES:Career Fair,Community Event
END:VEVENT
END:VCALENDAR