BEGIN:VCALENDAR
VERSION:2.0
PRODID:-//Neil Squire Society - ECPv5.3.1.1//NONSGML v1.0//EN
CALSCALE:GREGORIAN
METHOD:PUBLISH
X-WR-CALNAME:Neil Squire Society
X-ORIGINAL-URL:https://www.neilsquire.ca
X-WR-CALDESC:Events for Neil Squire Society
BEGIN:VTIMEZONE
TZID:America/Edmonton
BEGIN:DAYLIGHT
TZOFFSETFROM:-0700
TZOFFSETTO:-0600
TZNAME:MDT
DTSTART:20230312T090000
END:DAYLIGHT
BEGIN:STANDARD
TZOFFSETFROM:-0600
TZOFFSETTO:-0700
TZNAME:MST
DTSTART:20231105T080000
END:STANDARD
END:VTIMEZONE
BEGIN:VEVENT
DTSTART;TZID=America/Edmonton:20230315T160000
DTEND;TZID=America/Edmonton:20230315T190000
DTSTAMP:20260423T114710
CREATED:20230308T190800Z
LAST-MODIFIED:20230308T191256Z
UID:26439-1678896000-1678906800@www.neilsquire.ca
SUMMARY:UAlberta Biomedical Club that Care Assistive Device Session
DESCRIPTION:University of Alberta Biomedical Technologies Development Group (UABIOMED) is working with the organization\, Makers Making Change in building three different assistive devices that will be sent out to disability organizations and rehabilitation hospitals. \nThis is event is open to all University of Alberta students of any degree and experience is welcomed and encourage to attend! No prior experience is need\, with tools and materials being provided to create the necessary parts. \nIndividuals are allowed to come either days (March 15 or March 22) or both (March 15 and March 22). RSVP for the events you will be attending by purchasing a FREE ticket. \nThere will be a free supper for attendees as well. Please fill out this form for any dietary restriction (if none\, no need to fill it out).
URL:https://www.neilsquire.ca/event/ualberta-biomedical-club-that-care-assistive-device-session/2023-03-15/
LOCATION:Elko Engineering Garage\, 116 Street Northwest\, Edmonton\, Alberta\, T6G 2V4\, Canada
CATEGORIES:Buildathon,Makers Making Change
ATTACH;FMTTYPE=image/jpeg:https://www.neilsquire.ca/wp-content/uploads/2023/03/Ualberta.jpg
END:VEVENT
END:VCALENDAR