BEGIN:VCALENDAR
VERSION:2.0
PRODID:-//Neil Squire Society - ECPv5.3.1.1//NONSGML v1.0//EN
CALSCALE:GREGORIAN
METHOD:PUBLISH
X-WR-CALNAME:Neil Squire Society
X-ORIGINAL-URL:https://www.neilsquire.ca
X-WR-CALDESC:Events for Neil Squire Society
BEGIN:VTIMEZONE
TZID:America/Toronto
BEGIN:DAYLIGHT
TZOFFSETFROM:-0500
TZOFFSETTO:-0400
TZNAME:EDT
DTSTART:20240310T070000
END:DAYLIGHT
BEGIN:STANDARD
TZOFFSETFROM:-0400
TZOFFSETTO:-0500
TZNAME:EST
DTSTART:20241103T060000
END:STANDARD
END:VTIMEZONE
BEGIN:VEVENT
DTSTART;TZID=America/Toronto:20240708T093000
DTEND;TZID=America/Toronto:20240708T123000
DTSTAMP:20260424T063624
CREATED:20240628T222920Z
LAST-MODIFIED:20240628T222920Z
UID:28961-1720431000-1720441800@www.neilsquire.ca
SUMMARY:University of Toronto Occupational Therapists Switch Build
DESCRIPTION:MMC will be hosting a switch build at the University of Toronto downtown and Mississauga campuses for students in the Occupational Therapy program. Participants will learn about MMC\, adapted gaming\, and how to build switches from our library. \nThis is a closed event.
URL:https://www.neilsquire.ca/event/university-of-toronto-occupational-therapists-switch-build/
CATEGORIES:Buildathon,Makers Making Change
ATTACH;FMTTYPE=image/jpeg:https://www.neilsquire.ca/wp-content/uploads/2023/09/mmcneilsquire-195-scaled.jpg
END:VEVENT
END:VCALENDAR