BEGIN:VCALENDAR
VERSION:2.0
PRODID:-//Neil Squire Society - ECPv5.3.1.1//NONSGML v1.0//EN
CALSCALE:GREGORIAN
METHOD:PUBLISH
X-WR-CALNAME:Neil Squire Society
X-ORIGINAL-URL:https://www.neilsquire.ca
X-WR-CALDESC:Events for Neil Squire Society
BEGIN:VTIMEZONE
TZID:America/Vancouver
BEGIN:DAYLIGHT
TZOFFSETFROM:-0800
TZOFFSETTO:-0700
TZNAME:PDT
DTSTART:20200308T100000
END:DAYLIGHT
BEGIN:STANDARD
TZOFFSETFROM:-0700
TZOFFSETTO:-0800
TZNAME:PST
DTSTART:20201101T090000
END:STANDARD
END:VTIMEZONE
BEGIN:VEVENT
DTSTART;TZID=America/Vancouver:20200730T100000
DTEND;TZID=America/Vancouver:20200730T120000
DTSTAMP:20260419T125330
CREATED:20200722T191818Z
LAST-MODIFIED:20200722T194859Z
UID:22215-1596103200-1596110400@www.neilsquire.ca
SUMMARY:Virtual Build Event: Switch Build
DESCRIPTION:Makers Making Change are hosting a workshop in partnership with RBC Royal Bank on July 30th. \n(this is a private event and by invitation only for employees from BC and MSNWO Regions) \nFull build kits\, tools and step by step instructions will be supplied to participants. More information will be provided by your local RBC Royal Bank regional event coordinator. \nTo build the switch requires good motor skills and vision. \nYou will need to: \n\nbe comfortable with simple soldering\nhold and tighten a bolt\nhold and use a screwdriver\nsqueeze and use wire strippers\nuse a craft knife\n\nMakers Making Change is pleased to have you join us to provide assistive devices to people with disabilities in your community!
URL:https://www.neilsquire.ca/event/virtual-build-event-switch-build/
CATEGORIES:Buildathon,Makers Making Change
ATTACH;FMTTYPE=image/jpeg:https://www.neilsquire.ca/wp-content/uploads/2020/07/IMG_9354-e1558549160236-2048x1536-1.jpg
END:VEVENT
END:VCALENDAR