BEGIN:VCALENDAR
VERSION:2.0
PRODID:-//Neil Squire Society - ECPv5.3.1.1//NONSGML v1.0//EN
CALSCALE:GREGORIAN
METHOD:PUBLISH
X-WR-CALNAME:Neil Squire Society
X-ORIGINAL-URL:https://www.neilsquire.ca
X-WR-CALDESC:Events for Neil Squire Society
BEGIN:VTIMEZONE
TZID:America/Halifax
BEGIN:DAYLIGHT
TZOFFSETFROM:-0400
TZOFFSETTO:-0300
TZNAME:ADT
DTSTART:20220313T060000
END:DAYLIGHT
BEGIN:STANDARD
TZOFFSETFROM:-0300
TZOFFSETTO:-0400
TZNAME:AST
DTSTART:20221106T050000
END:STANDARD
END:VTIMEZONE
BEGIN:VEVENT
DTSTART;TZID=America/Halifax:20220726T143000
DTEND;TZID=America/Halifax:20220726T160000
DTSTAMP:20260423T164906
CREATED:20220705T161203Z
LAST-MODIFIED:20220705T161357Z
UID:25274-1658845800-1658851200@www.neilsquire.ca
SUMMARY:WISEatlantic Switch Build Event
DESCRIPTION:Makers Making Change is thrilled to be partnering with WISEatlantic (Women In Science and Engineering) to facilitate a switch build event with girls aged 12-14 who will be attending their day camp at Mount Saint Vincent University. \n16 participants will be lead in instruction from our Makers Making Change staff\, learn all about assistive technology\, and build assistive switches which will then be donated throughout Atlantic Canada. \nMany thanks to WISEatlantic for this exciting opportunity! \nWant to partner with us? reach out at info@makersmakingchange.com
URL:https://www.neilsquire.ca/event/wiseatlantic-switch-build-event/
CATEGORIES:Buildathon,Makers Making Change
ATTACH;FMTTYPE=image/jpeg:https://www.neilsquire.ca/wp-content/uploads/2022/07/WISEatlantic-Grid-1.jpg
END:VEVENT
END:VCALENDAR