BEGIN:VCALENDAR
VERSION:2.0
PRODID:-//Neil Squire Society - ECPv5.3.1.1//NONSGML v1.0//EN
CALSCALE:GREGORIAN
METHOD:PUBLISH
X-WR-CALNAME:Neil Squire Society
X-ORIGINAL-URL:https://www.neilsquire.ca
X-WR-CALDESC:Events for Neil Squire Society
BEGIN:VTIMEZONE
TZID:America/Vancouver
BEGIN:DAYLIGHT
TZOFFSETFROM:-0800
TZOFFSETTO:-0700
TZNAME:PDT
DTSTART:20250309T100000
END:DAYLIGHT
BEGIN:STANDARD
TZOFFSETFROM:-0700
TZOFFSETTO:-0800
TZNAME:PST
DTSTART:20251102T090000
END:STANDARD
END:VTIMEZONE
BEGIN:VEVENT
DTSTART;TZID=America/Vancouver:20251211T160000
DTEND;TZID=America/Vancouver:20251211T180000
DTSTAMP:20260424T155719
CREATED:20251126T190148Z
LAST-MODIFIED:20251202T225405Z
UID:31031-1765468800-1765476000@www.neilsquire.ca
SUMMARY:WorkBC Assistive Technology Services Open House: Nanaimo
DESCRIPTION:We are excited to invite the community to our WorkBC Assistive Technology Services Open House in Nanaimo (new window) on December 11th. Join us as we showcase our programs and services available to individuals in our community. \nConnect\, inform\, and inspire! \nDate: December 11\, 2025\nTime: 4:00 – 6:00\nLocation: 305 – 155 Skinner Street\, WorkBC Assistive Technology Services Nanaimo \nRSVP: https://NanaimoOpenHouse2025.eventbrite.ca  (new window) \nAt our open house\, you will have the opportunity to: \n\nLearn about our programs and support services\nMeet our team and local partners\nTour our facility and explore available resources\nAsk questions and discover how we can support you\nEnjoy light refreshments and community fellowship\nHave a chance to win a prize!\n\nThis event is free and open to all. Whether you are looking for assistance or simply wish to connect with local services\, we welcome you to stop by. \nOPTIONAL: Please bring a non-perishable item for the local Food Bank. \nWe look forward to seeing you there!
URL:https://www.neilsquire.ca/event/workbc-assistive-technology-services-open-house-nanaimo/
LOCATION:WorkBC Assistive Technology Services\, Nanaimo\, 305 - 155 Skinner Street\, Nanaimo\, BC\, Canada
CATEGORIES:Open House,WorkBC ATS
ATTACH;FMTTYPE=image/jpeg:https://www.neilsquire.ca/wp-content/uploads/2025/11/WorkBC-ATS-Nanaimo-Open-House-Facebook-Post.jpg
END:VEVENT
END:VCALENDAR