BEGIN:VCALENDAR
VERSION:2.0
PRODID:-//Neil Squire Society - ECPv5.3.1.1//NONSGML v1.0//EN
CALSCALE:GREGORIAN
METHOD:PUBLISH
X-WR-CALNAME:Neil Squire Society
X-ORIGINAL-URL:https://www.neilsquire.ca
X-WR-CALDESC:Events for Neil Squire Society
BEGIN:VTIMEZONE
TZID:America/Vancouver
BEGIN:DAYLIGHT
TZOFFSETFROM:-0800
TZOFFSETTO:-0700
TZNAME:PDT
DTSTART:20230312T100000
END:DAYLIGHT
BEGIN:STANDARD
TZOFFSETFROM:-0700
TZOFFSETTO:-0800
TZNAME:PST
DTSTART:20231105T090000
END:STANDARD
END:VTIMEZONE
BEGIN:VEVENT
DTSTART;TZID=America/Vancouver:20230323T130000
DTEND;TZID=America/Vancouver:20230323T170000
DTSTAMP:20260424T023806
CREATED:20230317T172913Z
LAST-MODIFIED:20230317T172913Z
UID:26516-1679576400-1679590800@www.neilsquire.ca
SUMMARY:WorkBC Oliver Job Fair
DESCRIPTION:Neil Squire’s Penticton Office will be at the WorkBC Centre Oliver Job Fair\, hosted by WorkBC Oliver in collaboration with Osoyoos Indian Band and OTDC in Oliver on Thursday\, March 23rd from 1-5 pm at the Sen Pok Chin Elementary School gym. \nJob fair attendees will have the opportunity to meet with employers from the South Okanagan and find out about full and part-time positions\, inclusive hiring\, and great summer work opportunities for students. \nEmployers on site include: BC Tree Fruits Co-op\, BC Fruit Works\, BCEHS\, Chandos Construction\, Consolidated Fruit Packers\, Dairy Queen\, Firehall Brewery\, Home Building Centres -Osoyoos Pro Builder Supply\, Interior Health\, Interior Savings – Oliver\, McDonalds\, BC Corrections Centre\, School District 53\, Air Canada\, Canada\, Post\, and more.
URL:https://www.neilsquire.ca/event/workbc-oliver-job-fair/
LOCATION:SenPokChin Elementary School\, 1156 Sen Pok Chin Blvd\, Oliver\, BC\, V0H 1T8\, Canada
CATEGORIES:Career Fair,Community Event,WorkBC ATS
ATTACH;FMTTYPE=image/jpeg:https://www.neilsquire.ca/wp-content/uploads/2023/03/Oliver-Job-Fair-Poster-002-scaled.jpg
END:VEVENT
END:VCALENDAR