BEGIN:VCALENDAR
VERSION:2.0
PRODID:-//Neil Squire Society - ECPv5.3.1.1//NONSGML v1.0//EN
CALSCALE:GREGORIAN
METHOD:PUBLISH
X-WR-CALNAME:Neil Squire Society
X-ORIGINAL-URL:https://www.neilsquire.ca
X-WR-CALDESC:Events for Neil Squire Society
BEGIN:VTIMEZONE
TZID:America/Vancouver
BEGIN:DAYLIGHT
TZOFFSETFROM:-0800
TZOFFSETTO:-0700
TZNAME:PDT
DTSTART:20210314T100000
END:DAYLIGHT
BEGIN:STANDARD
TZOFFSETFROM:-0700
TZOFFSETTO:-0800
TZNAME:PST
DTSTART:20211107T090000
END:STANDARD
END:VTIMEZONE
BEGIN:VEVENT
DTSTART;TZID=America/Vancouver:20210810T100000
DTEND;TZID=America/Vancouver:20210810T110000
DTSTAMP:20260420T052426
CREATED:20210306T010636Z
LAST-MODIFIED:20210306T010636Z
UID:23591-1628589600-1628593200@www.neilsquire.ca
SUMMARY:Working Together Webinar: Home Ergonomics
DESCRIPTION:In this webinar\, you will learn how to set up your home office\, as well as how to prevent musculoskeletal injuries due to repetitive movements and prolonged posture. \nTopic: Home Ergonomics\nDate: August 10th\, 2021\nTime: 10:00 PT\nPresented By: Atlantic Region Neil Squire Staff\nRegister for this webinar now! (new window)
URL:https://www.neilsquire.ca/event/working-together-webinar-home-ergonomics-3/
CATEGORIES:Webinar
ATTACH;FMTTYPE=image/jpeg:https://www.neilsquire.ca/wp-content/uploads/2021/02/August-10th-Home-Ergonomics-scaled.jpg
END:VEVENT
END:VCALENDAR