BEGIN:VCALENDAR
VERSION:2.0
PRODID:-//Neil Squire Society - ECPv5.3.1.1//NONSGML v1.0//EN
CALSCALE:GREGORIAN
METHOD:PUBLISH
X-WR-CALNAME:Neil Squire Society
X-ORIGINAL-URL:https://www.neilsquire.ca
X-WR-CALDESC:Events for Neil Squire Society
BEGIN:VTIMEZONE
TZID:America/Vancouver
BEGIN:DAYLIGHT
TZOFFSETFROM:-0800
TZOFFSETTO:-0700
TZNAME:PDT
DTSTART:20200308T100000
END:DAYLIGHT
BEGIN:STANDARD
TZOFFSETFROM:-0700
TZOFFSETTO:-0800
TZNAME:PST
DTSTART:20201101T090000
END:STANDARD
END:VTIMEZONE
BEGIN:VEVENT
DTSTART;TZID=America/Vancouver:20201201T100000
DTEND;TZID=America/Vancouver:20201201T110000
DTSTAMP:20260419T223623
CREATED:20200730T180325Z
LAST-MODIFIED:20200730T180325Z
UID:22307-1606816800-1606820400@www.neilsquire.ca
SUMMARY:Working Together Webinar: The Spoon Theory and Creating a Wellness Action Plan
DESCRIPTION:Do you often find yourself exhausted at the end of the day? Would you like to learn effective ways to overcome your fatigue? In this webinar\, you will learn about the Spoon Theory\, and how it can help you manage your energy. We will also teach you how to set S.M.A.R.T goals and develop a personal Wellness Action Plan to improve your physical\, emotional and social well-being. \nTopic: The Spoon Theory and Creating a Wellness Action Plan\nDate: December 1st\, 2020\nTime: 10:00 PDT\nPresented By: Western Region Neil Squire Staff\nRegister for this webinar now!
URL:https://www.neilsquire.ca/event/working-together-webinar-the-spoon-theory-and-creating-a-wellness-action-plan-2/
CATEGORIES:Webinar
ATTACH;FMTTYPE=image/jpeg:https://www.neilsquire.ca/wp-content/uploads/2020/07/December-1st-Spoon-Theory-scaled.jpg
END:VEVENT
END:VCALENDAR