BEGIN:VCALENDAR
VERSION:2.0
PRODID:-//Neil Squire Society - ECPv5.3.1.1//NONSGML v1.0//EN
CALSCALE:GREGORIAN
METHOD:PUBLISH
X-WR-CALNAME:Neil Squire Society
X-ORIGINAL-URL:https://www.neilsquire.ca
X-WR-CALDESC:Events for Neil Squire Society
BEGIN:VTIMEZONE
TZID:America/Vancouver
BEGIN:DAYLIGHT
TZOFFSETFROM:-0800
TZOFFSETTO:-0700
TZNAME:PDT
DTSTART:20210314T100000
END:DAYLIGHT
BEGIN:STANDARD
TZOFFSETFROM:-0700
TZOFFSETTO:-0800
TZNAME:PST
DTSTART:20211107T090000
END:STANDARD
END:VTIMEZONE
BEGIN:VEVENT
DTSTART;TZID=America/Vancouver:20210727T100000
DTEND;TZID=America/Vancouver:20210727T110000
DTSTAMP:20260420T052053
CREATED:20210306T010441Z
LAST-MODIFIED:20210306T010441Z
UID:23590-1627380000-1627383600@www.neilsquire.ca
SUMMARY:Working Together Webinar: Why Hire a Person with a Disability
DESCRIPTION:The prospect of hiring a person with a disability can bring up many questions for employers. Will the person be able to do the job? How much money is accommodation going to cost me? Why should I do this if I can hire someone without a disability? Are there benefits to hiring someone with a disability? In this webinar we will answer all of these questions and share a personal story of someone with a disability who works full time at a high level\, high stress job\, with great success. \nTopic: Why Hire a Person with a Disability\nDate: July 27th\, 2021\nTime: 10:00 PT\nPresented By: Prairie Region Neil Squire Staff\nRegister for this webinar now! (new window)
URL:https://www.neilsquire.ca/event/working-together-webinar-why-hire-a-person-with-a-disability-3/
CATEGORIES:Webinar
ATTACH;FMTTYPE=image/jpeg:https://www.neilsquire.ca/wp-content/uploads/2021/02/July-27th-Why-Hire-a-Person-with-a-Disability-scaled.jpg
END:VEVENT
END:VCALENDAR